BEGIN:VCALENDAR
VERSION:2.0
PRODID:-//Grand Health Partners - ECPv6.15.20//NONSGML v1.0//EN
CALSCALE:GREGORIAN
METHOD:PUBLISH
X-ORIGINAL-URL:https://grandhealthpartners.com
X-WR-CALDESC:Events for Grand Health Partners
REFRESH-INTERVAL;VALUE=DURATION:PT1H
X-Robots-Tag:noindex
X-PUBLISHED-TTL:PT1H
BEGIN:VTIMEZONE
TZID:America/Detroit
BEGIN:DAYLIGHT
TZOFFSETFROM:-0500
TZOFFSETTO:-0400
TZNAME:EDT
DTSTART:20210314T070000
END:DAYLIGHT
BEGIN:STANDARD
TZOFFSETFROM:-0400
TZOFFSETTO:-0500
TZNAME:EST
DTSTART:20211107T060000
END:STANDARD
BEGIN:DAYLIGHT
TZOFFSETFROM:-0500
TZOFFSETTO:-0400
TZNAME:EDT
DTSTART:20220313T070000
END:DAYLIGHT
BEGIN:STANDARD
TZOFFSETFROM:-0400
TZOFFSETTO:-0500
TZNAME:EST
DTSTART:20221106T060000
END:STANDARD
BEGIN:DAYLIGHT
TZOFFSETFROM:-0500
TZOFFSETTO:-0400
TZNAME:EDT
DTSTART:20230312T070000
END:DAYLIGHT
BEGIN:STANDARD
TZOFFSETFROM:-0400
TZOFFSETTO:-0500
TZNAME:EST
DTSTART:20231105T060000
END:STANDARD
BEGIN:DAYLIGHT
TZOFFSETFROM:-0500
TZOFFSETTO:-0400
TZNAME:EDT
DTSTART:20240310T070000
END:DAYLIGHT
BEGIN:STANDARD
TZOFFSETFROM:-0400
TZOFFSETTO:-0500
TZNAME:EST
DTSTART:20241103T060000
END:STANDARD
END:VTIMEZONE
BEGIN:VEVENT
DTSTART;VALUE=DATE:20230112
DTEND;VALUE=DATE:20230113
DTSTAMP:20260419T095851
CREATED:20230113T202313Z
LAST-MODIFIED:20230116T150018Z
UID:6635-1673481600-1673567999@grandhealthpartners.com
SUMMARY:11am Virtual All Patient Support Group
DESCRIPTION:
URL:https://grandhealthpartners.com/event/11am-virtual-all-patient-support-group-36/
END:VEVENT
BEGIN:VEVENT
DTSTART;VALUE=DATE:20230112
DTEND;VALUE=DATE:20230113
DTSTAMP:20260419T095851
CREATED:20230113T202250Z
LAST-MODIFIED:20230116T150101Z
UID:6633-1673481600-1673567999@grandhealthpartners.com
SUMMARY:10am In-Person Medical Support Group
DESCRIPTION:
URL:https://grandhealthpartners.com/event/10am-in-person-medical-support-group-28/
END:VEVENT
BEGIN:VEVENT
DTSTART;VALUE=DATE:20230112
DTEND;VALUE=DATE:20230113
DTSTAMP:20260419T095851
CREATED:20230113T202232Z
LAST-MODIFIED:20230113T202232Z
UID:6631-1673481600-1673567999@grandhealthpartners.com
SUMMARY:9am Using Elastic Bands for Strength Training– In-person & Live Webinar
DESCRIPTION:
URL:https://grandhealthpartners.com/event/9am-using-elastic-bands-for-strength-training-in-person-live-webinar/
END:VEVENT
BEGIN:VEVENT
DTSTART;VALUE=DATE:20230109
DTEND;VALUE=DATE:20230110
DTSTAMP:20260419T095851
CREATED:20230113T202213Z
LAST-MODIFIED:20230113T202213Z
UID:6629-1673222400-1673308799@grandhealthpartners.com
SUMMARY:7pm Virtual All Patient Support Group Food & Mood
DESCRIPTION:
URL:https://grandhealthpartners.com/event/7pm-virtual-all-patient-support-group-food-mood-2/
END:VEVENT
BEGIN:VEVENT
DTSTART;VALUE=DATE:20230109
DTEND;VALUE=DATE:20230110
DTSTAMP:20260419T095851
CREATED:20230113T202150Z
LAST-MODIFIED:20230113T202150Z
UID:6627-1673222400-1673308799@grandhealthpartners.com
SUMMARY:6pm Using Elastic Bands for Strength Training - In Person & Live Webinar
DESCRIPTION:
URL:https://grandhealthpartners.com/event/6pm-using-elastic-bands-for-strength-training-in-person-live-webinar/
END:VEVENT
BEGIN:VEVENT
DTSTART;VALUE=DATE:20230109
DTEND;VALUE=DATE:20230110
DTSTAMP:20260419T095851
CREATED:20230113T202131Z
LAST-MODIFIED:20230113T202131Z
UID:6625-1673222400-1673308799@grandhealthpartners.com
SUMMARY:5pm In-Person Surgical Support Group
DESCRIPTION:
URL:https://grandhealthpartners.com/event/5pm-in-person-surgical-support-group-36/
END:VEVENT
BEGIN:VEVENT
DTSTART;VALUE=DATE:20230105
DTEND;VALUE=DATE:20230106
DTSTAMP:20260419T095851
CREATED:20230113T202024Z
LAST-MODIFIED:20230113T202024Z
UID:6623-1672876800-1672963199@grandhealthpartners.com
SUMMARY:12pm (noon) Setting Boundaries Part 1 (pre-recorded)– In-person & Live Webinar
DESCRIPTION:
URL:https://grandhealthpartners.com/event/12pm-noon-setting-boundaries-part-1-pre-recorded-in-person-live-webinar/
END:VEVENT
BEGIN:VEVENT
DTSTART;VALUE=DATE:20230105
DTEND;VALUE=DATE:20230106
DTSTAMP:20260419T095851
CREATED:20230113T202005Z
LAST-MODIFIED:20230113T202005Z
UID:6621-1672876800-1672963199@grandhealthpartners.com
SUMMARY:11am Virtual All Patient Support Group
DESCRIPTION:
URL:https://grandhealthpartners.com/event/11am-virtual-all-patient-support-group-35/
END:VEVENT
BEGIN:VEVENT
DTSTART;VALUE=DATE:20230105
DTEND;VALUE=DATE:20230106
DTSTAMP:20260419T095851
CREATED:20230113T201947Z
LAST-MODIFIED:20230113T201947Z
UID:6619-1672876800-1672963199@grandhealthpartners.com
SUMMARY:10am In-Person Medical Support Group
DESCRIPTION:
URL:https://grandhealthpartners.com/event/10am-in-person-medical-support-group-27/
END:VEVENT
BEGIN:VEVENT
DTSTART;VALUE=DATE:20230105
DTEND;VALUE=DATE:20230106
DTSTAMP:20260419T095851
CREATED:20230113T201929Z
LAST-MODIFIED:20230113T201929Z
UID:6617-1672876800-1672963199@grandhealthpartners.com
SUMMARY:9am Setting Boundaries Part 1 (pre-recorded)– In-person & Live Webinar
DESCRIPTION:
URL:https://grandhealthpartners.com/event/9am-setting-boundaries-part-1-pre-recorded-in-person-live-webinar/
END:VEVENT
BEGIN:VEVENT
DTSTART;VALUE=DATE:20230102
DTEND;VALUE=DATE:20230103
DTSTAMP:20260419T095851
CREATED:20230102T201554Z
LAST-MODIFIED:20230113T201842Z
UID:6612-1672617600-1672703999@grandhealthpartners.com
SUMMARY:5pm In-Person Surgical Support Group
DESCRIPTION:
URL:https://grandhealthpartners.com/event/5pm-in-person-surgical-support-group-35/
END:VEVENT
BEGIN:VEVENT
DTSTART;VALUE=DATE:20230102
DTEND;VALUE=DATE:20230103
DTSTAMP:20260419T095851
CREATED:20230102T201533Z
LAST-MODIFIED:20230113T201657Z
UID:6610-1672617600-1672703999@grandhealthpartners.com
SUMMARY:6pm Setting Boundaries Part 1 (pre-recorded)In Person & Live Webinar
DESCRIPTION:
URL:https://grandhealthpartners.com/event/6pm-setting-boundaries-part-1-pre-recordedin-person-live-webinar/
END:VEVENT
BEGIN:VEVENT
DTSTART;VALUE=DATE:20230102
DTEND;VALUE=DATE:20230103
DTSTAMP:20260419T095851
CREATED:20230102T201611Z
LAST-MODIFIED:20230113T201806Z
UID:6614-1672617600-1672703999@grandhealthpartners.com
SUMMARY:7pm Virtual All Patient Support Group Food & Mood
DESCRIPTION:
URL:https://grandhealthpartners.com/event/7pm-virtual-all-patient-support-group-food-mood/
END:VEVENT
BEGIN:VEVENT
DTSTART;VALUE=DATE:20220905
DTEND;VALUE=DATE:20220906
DTSTAMP:20260419T095851
CREATED:20220629T155029Z
LAST-MODIFIED:20220629T155029Z
UID:6581-1662336000-1662422399@grandhealthpartners.com
SUMMARY:Happy Labor Day - no groups or classes
DESCRIPTION:
URL:https://grandhealthpartners.com/event/happy-labor-day-no-groups-or-classes/
END:VEVENT
BEGIN:VEVENT
DTSTART;VALUE=DATE:20220901
DTEND;VALUE=DATE:20220902
DTSTAMP:20260419T095851
CREATED:20220629T154208Z
LAST-MODIFIED:20220629T154208Z
UID:6579-1661990400-1662076799@grandhealthpartners.com
SUMMARY:12pm (noon) Food Addiction Part II – In-person & Live Webinar
DESCRIPTION:
URL:https://grandhealthpartners.com/event/12pm-noon-food-addiction-part-ii-in-person-live-webinar/
END:VEVENT
BEGIN:VEVENT
DTSTART;VALUE=DATE:20220901
DTEND;VALUE=DATE:20220902
DTSTAMP:20260419T095851
CREATED:20220629T154150Z
LAST-MODIFIED:20220629T154150Z
UID:6577-1661990400-1662076799@grandhealthpartners.com
SUMMARY:11am Virtual All Patient Support Group
DESCRIPTION:
URL:https://grandhealthpartners.com/event/11am-virtual-all-patient-support-group-34/
END:VEVENT
BEGIN:VEVENT
DTSTART;VALUE=DATE:20220901
DTEND;VALUE=DATE:20220902
DTSTAMP:20260419T095851
CREATED:20220629T154128Z
LAST-MODIFIED:20220629T154128Z
UID:6575-1661990400-1662076799@grandhealthpartners.com
SUMMARY:10am In-Person Medical Support Group
DESCRIPTION:
URL:https://grandhealthpartners.com/event/10am-in-person-medical-support-group-26/
END:VEVENT
BEGIN:VEVENT
DTSTART;VALUE=DATE:20220901
DTEND;VALUE=DATE:20220902
DTSTAMP:20260419T095851
CREATED:20220629T154111Z
LAST-MODIFIED:20220629T154111Z
UID:6573-1661990400-1662076799@grandhealthpartners.com
SUMMARY:9am Food Addiction Part II – In-person & Live Webinar
DESCRIPTION:
URL:https://grandhealthpartners.com/event/9am-food-addiction-part-ii-in-person-live-webinar/
END:VEVENT
BEGIN:VEVENT
DTSTART;VALUE=DATE:20220829
DTEND;VALUE=DATE:20220830
DTSTAMP:20260419T095851
CREATED:20220629T153943Z
LAST-MODIFIED:20220629T153943Z
UID:6571-1661731200-1661817599@grandhealthpartners.com
SUMMARY:7pm Virtual All Patient Support Group
DESCRIPTION:
URL:https://grandhealthpartners.com/event/7pm-virtual-all-patient-support-group-34/
END:VEVENT
BEGIN:VEVENT
DTSTART;VALUE=DATE:20220829
DTEND;VALUE=DATE:20220830
DTSTAMP:20260419T095851
CREATED:20220629T153919Z
LAST-MODIFIED:20220629T154022Z
UID:6569-1661731200-1661817599@grandhealthpartners.com
SUMMARY:6pm Food Addiction Part II - In Person & Live Webinar
DESCRIPTION:
URL:https://grandhealthpartners.com/event/6pm-food-addiction-part-ii-in-person-live-webinar/
END:VEVENT
BEGIN:VEVENT
DTSTART;VALUE=DATE:20220829
DTEND;VALUE=DATE:20220830
DTSTAMP:20260419T095851
CREATED:20220629T153858Z
LAST-MODIFIED:20220629T153858Z
UID:6567-1661731200-1661817599@grandhealthpartners.com
SUMMARY:5pm In-Person Surgical Support Group
DESCRIPTION:
URL:https://grandhealthpartners.com/event/5pm-in-person-surgical-support-group-34/
END:VEVENT
BEGIN:VEVENT
DTSTART;VALUE=DATE:20220825
DTEND;VALUE=DATE:20220826
DTSTAMP:20260419T095851
CREATED:20220629T153746Z
LAST-MODIFIED:20220629T153746Z
UID:6565-1661385600-1661471999@grandhealthpartners.com
SUMMARY:12pm (noon) The Macros – CARBOHYDRATES – In-person & Live Webinar
DESCRIPTION:
URL:https://grandhealthpartners.com/event/12pm-noon-the-macros-carbohydrates-in-person-live-webinar-2/
END:VEVENT
BEGIN:VEVENT
DTSTART;VALUE=DATE:20220825
DTEND;VALUE=DATE:20220826
DTSTAMP:20260419T095851
CREATED:20220629T153728Z
LAST-MODIFIED:20220629T153728Z
UID:6563-1661385600-1661471999@grandhealthpartners.com
SUMMARY:11am Virtual All Patient Support Group
DESCRIPTION:
URL:https://grandhealthpartners.com/event/11am-virtual-all-patient-support-group-33/
END:VEVENT
BEGIN:VEVENT
DTSTART;VALUE=DATE:20220825
DTEND;VALUE=DATE:20220826
DTSTAMP:20260419T095851
CREATED:20220629T153712Z
LAST-MODIFIED:20220629T153712Z
UID:6561-1661385600-1661471999@grandhealthpartners.com
SUMMARY:10am In-Person Medical Support Group
DESCRIPTION:
URL:https://grandhealthpartners.com/event/10am-in-person-medical-support-group-25/
END:VEVENT
BEGIN:VEVENT
DTSTART;VALUE=DATE:20220822
DTEND;VALUE=DATE:20220823
DTSTAMP:20260419T095851
CREATED:20220629T153640Z
LAST-MODIFIED:20220629T153640Z
UID:6558-1661126400-1661212799@grandhealthpartners.com
SUMMARY:7pm Virtual All Patient Support Group
DESCRIPTION:
URL:https://grandhealthpartners.com/event/7pm-virtual-all-patient-support-group-33/
END:VEVENT
BEGIN:VEVENT
DTSTART;VALUE=DATE:20220822
DTEND;VALUE=DATE:20220823
DTSTAMP:20260419T095851
CREATED:20220629T153621Z
LAST-MODIFIED:20220629T153621Z
UID:6556-1661126400-1661212799@grandhealthpartners.com
SUMMARY:6pm The Macros – CARBOHYDRATES - In Person & Live Webinar
DESCRIPTION:
URL:https://grandhealthpartners.com/event/6pm-the-macros-carbohydrates-in-person-live-webinar-2/
END:VEVENT
BEGIN:VEVENT
DTSTART;VALUE=DATE:20220822
DTEND;VALUE=DATE:20220823
DTSTAMP:20260419T095851
CREATED:20220629T153605Z
LAST-MODIFIED:20220629T153605Z
UID:6554-1661126400-1661212799@grandhealthpartners.com
SUMMARY:5pm In-Person Surgical Support Group
DESCRIPTION:
URL:https://grandhealthpartners.com/event/5pm-in-person-surgical-support-group-33/
END:VEVENT
BEGIN:VEVENT
DTSTART;VALUE=DATE:20220818
DTEND;VALUE=DATE:20220819
DTSTAMP:20260419T095851
CREATED:20220629T153108Z
LAST-MODIFIED:20220629T153108Z
UID:6552-1660780800-1660867199@grandhealthpartners.com
SUMMARY:12pm (noon) Staying Active and Well when Life Gets Crazy – In-person & Live Webinar
DESCRIPTION:
URL:https://grandhealthpartners.com/event/12pm-noon-staying-active-and-well-when-life-gets-crazy-in-person-live-webinar/
END:VEVENT
BEGIN:VEVENT
DTSTART;VALUE=DATE:20220818
DTEND;VALUE=DATE:20220819
DTSTAMP:20260419T095851
CREATED:20220629T153048Z
LAST-MODIFIED:20220629T153048Z
UID:6550-1660780800-1660867199@grandhealthpartners.com
SUMMARY:11am Virtual All Patient Support Group
DESCRIPTION:
URL:https://grandhealthpartners.com/event/11am-virtual-all-patient-support-group-32/
END:VEVENT
BEGIN:VEVENT
DTSTART;VALUE=DATE:20220818
DTEND;VALUE=DATE:20220819
DTSTAMP:20260419T095851
CREATED:20220629T153031Z
LAST-MODIFIED:20220629T153031Z
UID:6548-1660780800-1660867199@grandhealthpartners.com
SUMMARY:10am In-Person Medical Support Group
DESCRIPTION:
URL:https://grandhealthpartners.com/event/10am-in-person-medical-support-group-24/
END:VEVENT
END:VCALENDAR