BEGIN:VCALENDAR
VERSION:2.0
PRODID:-//Grand Health Partners - ECPv6.15.20//NONSGML v1.0//EN
CALSCALE:GREGORIAN
METHOD:PUBLISH
X-WR-CALNAME:Grand Health Partners
X-ORIGINAL-URL:https://grandhealthpartners.com
X-WR-CALDESC:Events for Grand Health Partners
REFRESH-INTERVAL;VALUE=DURATION:PT1H
X-Robots-Tag:noindex
X-PUBLISHED-TTL:PT1H
BEGIN:VTIMEZONE
TZID:America/Detroit
BEGIN:DAYLIGHT
TZOFFSETFROM:-0500
TZOFFSETTO:-0400
TZNAME:EDT
DTSTART:20210314T070000
END:DAYLIGHT
BEGIN:STANDARD
TZOFFSETFROM:-0400
TZOFFSETTO:-0500
TZNAME:EST
DTSTART:20211107T060000
END:STANDARD
BEGIN:DAYLIGHT
TZOFFSETFROM:-0500
TZOFFSETTO:-0400
TZNAME:EDT
DTSTART:20220313T070000
END:DAYLIGHT
BEGIN:STANDARD
TZOFFSETFROM:-0400
TZOFFSETTO:-0500
TZNAME:EST
DTSTART:20221106T060000
END:STANDARD
BEGIN:DAYLIGHT
TZOFFSETFROM:-0500
TZOFFSETTO:-0400
TZNAME:EDT
DTSTART:20230312T070000
END:DAYLIGHT
BEGIN:STANDARD
TZOFFSETFROM:-0400
TZOFFSETTO:-0500
TZNAME:EST
DTSTART:20231105T060000
END:STANDARD
END:VTIMEZONE
BEGIN:VEVENT
DTSTART;VALUE=DATE:20220818
DTEND;VALUE=DATE:20220819
DTSTAMP:20260425T061823
CREATED:20220629T153013Z
LAST-MODIFIED:20220629T153013Z
UID:6546-1660780800-1660867199@grandhealthpartners.com
SUMMARY:9am Staying Active and Well when Life Gets Crazy – In-person & Live Webinar
DESCRIPTION:
URL:https://grandhealthpartners.com/event/9am-staying-active-and-well-when-life-gets-crazy-in-person-live-webinar/
END:VEVENT
BEGIN:VEVENT
DTSTART;VALUE=DATE:20220815
DTEND;VALUE=DATE:20220816
DTSTAMP:20260425T061823
CREATED:20220629T152954Z
LAST-MODIFIED:20220629T152954Z
UID:6544-1660521600-1660607999@grandhealthpartners.com
SUMMARY:7pm Virtual All Patient Support Group
DESCRIPTION:
URL:https://grandhealthpartners.com/event/7pm-virtual-all-patient-support-group-32/
END:VEVENT
BEGIN:VEVENT
DTSTART;VALUE=DATE:20220815
DTEND;VALUE=DATE:20220816
DTSTAMP:20260425T061823
CREATED:20220629T152939Z
LAST-MODIFIED:20220629T152939Z
UID:6542-1660521600-1660607999@grandhealthpartners.com
SUMMARY:6pm Staying Active and Well when Life Gets Crazy - In Person & Live Webinar
DESCRIPTION:
URL:https://grandhealthpartners.com/event/6pm-staying-active-and-well-when-life-gets-crazy-in-person-live-webinar/
END:VEVENT
BEGIN:VEVENT
DTSTART;VALUE=DATE:20220815
DTEND;VALUE=DATE:20220816
DTSTAMP:20260425T061823
CREATED:20220629T152924Z
LAST-MODIFIED:20220629T152924Z
UID:6540-1660521600-1660607999@grandhealthpartners.com
SUMMARY:5pm In-Person Surgical Support Group
DESCRIPTION:
URL:https://grandhealthpartners.com/event/5pm-in-person-surgical-support-group-32/
END:VEVENT
BEGIN:VEVENT
DTSTART;VALUE=DATE:20220811
DTEND;VALUE=DATE:20220812
DTSTAMP:20260425T061823
CREATED:20220629T151400Z
LAST-MODIFIED:20220629T151400Z
UID:6538-1660176000-1660262399@grandhealthpartners.com
SUMMARY:12pm (noon) Food Addiction Part I – In-person & Live Webinar
DESCRIPTION:
URL:https://grandhealthpartners.com/event/12pm-noon-food-addiction-part-i-in-person-live-webinar/
END:VEVENT
BEGIN:VEVENT
DTSTART;VALUE=DATE:20220811
DTEND;VALUE=DATE:20220812
DTSTAMP:20260425T061823
CREATED:20220629T151343Z
LAST-MODIFIED:20220629T151343Z
UID:6536-1660176000-1660262399@grandhealthpartners.com
SUMMARY:11am Virtual All Patient Support Group
DESCRIPTION:
URL:https://grandhealthpartners.com/event/11am-virtual-all-patient-support-group-31/
END:VEVENT
BEGIN:VEVENT
DTSTART;VALUE=DATE:20220811
DTEND;VALUE=DATE:20220812
DTSTAMP:20260425T061823
CREATED:20220629T151324Z
LAST-MODIFIED:20220629T151324Z
UID:6534-1660176000-1660262399@grandhealthpartners.com
SUMMARY:10am In-Person Medical Support Group
DESCRIPTION:
URL:https://grandhealthpartners.com/event/10am-in-person-medical-support-group-23/
END:VEVENT
BEGIN:VEVENT
DTSTART;VALUE=DATE:20220811
DTEND;VALUE=DATE:20220812
DTSTAMP:20260425T061823
CREATED:20220629T151309Z
LAST-MODIFIED:20220629T151309Z
UID:6532-1660176000-1660262399@grandhealthpartners.com
SUMMARY:9am Food Addiction Part I – In-person & Live Webinar
DESCRIPTION:
URL:https://grandhealthpartners.com/event/9am-food-addiction-part-i-in-person-live-webinar/
END:VEVENT
BEGIN:VEVENT
DTSTART;VALUE=DATE:20220808
DTEND;VALUE=DATE:20220809
DTSTAMP:20260425T061823
CREATED:20220629T151237Z
LAST-MODIFIED:20220629T151237Z
UID:6530-1659916800-1660003199@grandhealthpartners.com
SUMMARY:7pm Virtual All Patient Support Group
DESCRIPTION:
URL:https://grandhealthpartners.com/event/7pm-virtual-all-patient-support-group-31/
END:VEVENT
BEGIN:VEVENT
DTSTART;VALUE=DATE:20220808
DTEND;VALUE=DATE:20220809
DTSTAMP:20260425T061823
CREATED:20220629T151222Z
LAST-MODIFIED:20220629T151222Z
UID:6528-1659916800-1660003199@grandhealthpartners.com
SUMMARY:6pm Food Addiction Part I - In Person & Live Webinar
DESCRIPTION:
URL:https://grandhealthpartners.com/event/6pm-food-addiction-part-i-in-person-live-webinar/
END:VEVENT
BEGIN:VEVENT
DTSTART;VALUE=DATE:20220808
DTEND;VALUE=DATE:20220809
DTSTAMP:20260425T061824
CREATED:20220629T151207Z
LAST-MODIFIED:20220629T151207Z
UID:6526-1659916800-1660003199@grandhealthpartners.com
SUMMARY:5pm In-Person Surgical Support Group
DESCRIPTION:
URL:https://grandhealthpartners.com/event/5pm-in-person-surgical-support-group-31/
END:VEVENT
BEGIN:VEVENT
DTSTART;VALUE=DATE:20220804
DTEND;VALUE=DATE:20220805
DTSTAMP:20260425T061824
CREATED:20220629T151102Z
LAST-MODIFIED:20220629T151102Z
UID:6524-1659571200-1659657599@grandhealthpartners.com
SUMMARY:12pm (noon) The Macros - PROTIEN – In-person & Live Webinar
DESCRIPTION:
URL:https://grandhealthpartners.com/event/12pm-noon-the-macros-protien-in-person-live-webinar/
END:VEVENT
BEGIN:VEVENT
DTSTART;VALUE=DATE:20220804
DTEND;VALUE=DATE:20220805
DTSTAMP:20260425T061824
CREATED:20220629T151044Z
LAST-MODIFIED:20220629T151044Z
UID:6522-1659571200-1659657599@grandhealthpartners.com
SUMMARY:11am Virtual All Patient Support Group
DESCRIPTION:
URL:https://grandhealthpartners.com/event/11am-virtual-all-patient-support-group-30/
END:VEVENT
BEGIN:VEVENT
DTSTART;VALUE=DATE:20220804
DTEND;VALUE=DATE:20220805
DTSTAMP:20260425T061824
CREATED:20220629T151025Z
LAST-MODIFIED:20220629T151025Z
UID:6520-1659571200-1659657599@grandhealthpartners.com
SUMMARY:10am In-Person Medical Support Group
DESCRIPTION:
URL:https://grandhealthpartners.com/event/10am-in-person-medical-support-group-22/
END:VEVENT
BEGIN:VEVENT
DTSTART;VALUE=DATE:20220804
DTEND;VALUE=DATE:20220805
DTSTAMP:20260425T061824
CREATED:20220629T151006Z
LAST-MODIFIED:20220629T151006Z
UID:6518-1659571200-1659657599@grandhealthpartners.com
SUMMARY:9am The Macros - PROTIEN – In-person & Live Webinar
DESCRIPTION:
URL:https://grandhealthpartners.com/event/9am-the-macros-protien-in-person-live-webinar/
END:VEVENT
BEGIN:VEVENT
DTSTART;VALUE=DATE:20220801
DTEND;VALUE=DATE:20220802
DTSTAMP:20260425T061824
CREATED:20220629T150944Z
LAST-MODIFIED:20220629T150944Z
UID:6516-1659312000-1659398399@grandhealthpartners.com
SUMMARY:7pm Virtual All Patient Support Group
DESCRIPTION:
URL:https://grandhealthpartners.com/event/7pm-virtual-all-patient-support-group-30/
END:VEVENT
BEGIN:VEVENT
DTSTART;VALUE=DATE:20220801
DTEND;VALUE=DATE:20220802
DTSTAMP:20260425T061824
CREATED:20220629T150930Z
LAST-MODIFIED:20220629T150930Z
UID:6514-1659312000-1659398399@grandhealthpartners.com
SUMMARY:6pm The Macros - PROTIEN- In Person & Live Webinar
DESCRIPTION:
URL:https://grandhealthpartners.com/event/6pm-the-macros-protien-in-person-live-webinar/
END:VEVENT
BEGIN:VEVENT
DTSTART;VALUE=DATE:20220801
DTEND;VALUE=DATE:20220802
DTSTAMP:20260425T061824
CREATED:20220629T150914Z
LAST-MODIFIED:20220629T150914Z
UID:6512-1659312000-1659398399@grandhealthpartners.com
SUMMARY:5pm In-Person Surgical Support Group
DESCRIPTION:
URL:https://grandhealthpartners.com/event/5pm-in-person-surgical-support-group-30/
END:VEVENT
BEGIN:VEVENT
DTSTART;VALUE=DATE:20220728
DTEND;VALUE=DATE:20220729
DTSTAMP:20260425T061824
CREATED:20220629T150521Z
LAST-MODIFIED:20220629T150521Z
UID:6510-1658966400-1659052799@grandhealthpartners.com
SUMMARY:12pm (noon) Bone Building Exercises – In-person & Live Webinar
DESCRIPTION:
URL:https://grandhealthpartners.com/event/12pm-noon-bone-building-exercises-in-person-live-webinar-2/
END:VEVENT
BEGIN:VEVENT
DTSTART;VALUE=DATE:20220728
DTEND;VALUE=DATE:20220729
DTSTAMP:20260425T061824
CREATED:20220629T150500Z
LAST-MODIFIED:20220629T150500Z
UID:6508-1658966400-1659052799@grandhealthpartners.com
SUMMARY:11am Virtual All Patient Support Group
DESCRIPTION:
URL:https://grandhealthpartners.com/event/11am-virtual-all-patient-support-group-29/
END:VEVENT
BEGIN:VEVENT
DTSTART;VALUE=DATE:20220728
DTEND;VALUE=DATE:20220729
DTSTAMP:20260425T061824
CREATED:20220629T150443Z
LAST-MODIFIED:20220629T150443Z
UID:6506-1658966400-1659052799@grandhealthpartners.com
SUMMARY:10am In-Person Medical Support Group
DESCRIPTION:
URL:https://grandhealthpartners.com/event/10am-in-person-medical-support-group-21/
END:VEVENT
BEGIN:VEVENT
DTSTART;VALUE=DATE:20220728
DTEND;VALUE=DATE:20220729
DTSTAMP:20260425T061824
CREATED:20220629T150428Z
LAST-MODIFIED:20220629T150428Z
UID:6504-1658966400-1659052799@grandhealthpartners.com
SUMMARY:9am Bone Building Exercises – In-person & Live Webinar
DESCRIPTION:
URL:https://grandhealthpartners.com/event/9am-bone-building-exercises-in-person-live-webinar-2/
END:VEVENT
BEGIN:VEVENT
DTSTART;VALUE=DATE:20220725
DTEND;VALUE=DATE:20220726
DTSTAMP:20260425T061824
CREATED:20220629T150406Z
LAST-MODIFIED:20220629T150406Z
UID:6502-1658707200-1658793599@grandhealthpartners.com
SUMMARY:7pm Virtual All Patient Support Group
DESCRIPTION:
URL:https://grandhealthpartners.com/event/7pm-virtual-all-patient-support-group-29/
END:VEVENT
BEGIN:VEVENT
DTSTART;VALUE=DATE:20220725
DTEND;VALUE=DATE:20220726
DTSTAMP:20260425T061824
CREATED:20220629T150348Z
LAST-MODIFIED:20220629T150348Z
UID:6500-1658707200-1658793599@grandhealthpartners.com
SUMMARY:6pm Bone Building Exercises - In Person & Live Webinar
DESCRIPTION:
URL:https://grandhealthpartners.com/event/6pm-bone-building-exercises-in-person-live-webinar-2/
END:VEVENT
BEGIN:VEVENT
DTSTART;VALUE=DATE:20220725
DTEND;VALUE=DATE:20220726
DTSTAMP:20260425T061824
CREATED:20220629T150324Z
LAST-MODIFIED:20220629T150324Z
UID:6498-1658707200-1658793599@grandhealthpartners.com
SUMMARY:5pm In-Person Surgical Support Group
DESCRIPTION:
URL:https://grandhealthpartners.com/event/5pm-in-person-surgical-support-group-29/
END:VEVENT
BEGIN:VEVENT
DTSTART;VALUE=DATE:20220721
DTEND;VALUE=DATE:20220722
DTSTAMP:20260425T061824
CREATED:20220629T150150Z
LAST-MODIFIED:20220629T150150Z
UID:6496-1658361600-1658447999@grandhealthpartners.com
SUMMARY:12pm (noon) Coping with Obesity Stigma – In-person & Live Webinar
DESCRIPTION:
URL:https://grandhealthpartners.com/event/12pm-noon-coping-with-obesity-stigma-in-person-live-webinar/
END:VEVENT
BEGIN:VEVENT
DTSTART;VALUE=DATE:20220721
DTEND;VALUE=DATE:20220722
DTSTAMP:20260425T061824
CREATED:20220629T150129Z
LAST-MODIFIED:20220629T150129Z
UID:6494-1658361600-1658447999@grandhealthpartners.com
SUMMARY:11am Virtual All Patient Support Group
DESCRIPTION:
URL:https://grandhealthpartners.com/event/11am-virtual-all-patient-support-group-28/
END:VEVENT
BEGIN:VEVENT
DTSTART;VALUE=DATE:20220721
DTEND;VALUE=DATE:20220722
DTSTAMP:20260425T061824
CREATED:20220629T150109Z
LAST-MODIFIED:20220629T150109Z
UID:6492-1658361600-1658447999@grandhealthpartners.com
SUMMARY:10am In-Person Medical Support Group
DESCRIPTION:
URL:https://grandhealthpartners.com/event/10am-in-person-medical-support-group-20/
END:VEVENT
BEGIN:VEVENT
DTSTART;VALUE=DATE:20220721
DTEND;VALUE=DATE:20220722
DTSTAMP:20260425T061824
CREATED:20220629T150050Z
LAST-MODIFIED:20220629T150050Z
UID:6490-1658361600-1658447999@grandhealthpartners.com
SUMMARY:9am Coping with Obesity Stigma – In-person & Live Webinar
DESCRIPTION:
URL:https://grandhealthpartners.com/event/9am-coping-with-obesity-stigma-in-person-live-webinar/
END:VEVENT
BEGIN:VEVENT
DTSTART;VALUE=DATE:20220718
DTEND;VALUE=DATE:20220719
DTSTAMP:20260425T061824
CREATED:20220629T150032Z
LAST-MODIFIED:20220629T150032Z
UID:6488-1658102400-1658188799@grandhealthpartners.com
SUMMARY:7pm Virtual All Patient Support Group
DESCRIPTION:
URL:https://grandhealthpartners.com/event/7pm-virtual-all-patient-support-group-28/
END:VEVENT
END:VCALENDAR