BEGIN:VCALENDAR
VERSION:2.0
PRODID:-//Grand Health Partners - ECPv6.15.20//NONSGML v1.0//EN
CALSCALE:GREGORIAN
METHOD:PUBLISH
X-WR-CALNAME:Grand Health Partners
X-ORIGINAL-URL:https://grandhealthpartners.com
X-WR-CALDESC:Events for Grand Health Partners
REFRESH-INTERVAL;VALUE=DURATION:PT1H
X-Robots-Tag:noindex
X-PUBLISHED-TTL:PT1H
BEGIN:VTIMEZONE
TZID:America/Detroit
BEGIN:DAYLIGHT
TZOFFSETFROM:-0500
TZOFFSETTO:-0400
TZNAME:EDT
DTSTART:20210314T070000
END:DAYLIGHT
BEGIN:STANDARD
TZOFFSETFROM:-0400
TZOFFSETTO:-0500
TZNAME:EST
DTSTART:20211107T060000
END:STANDARD
BEGIN:DAYLIGHT
TZOFFSETFROM:-0500
TZOFFSETTO:-0400
TZNAME:EDT
DTSTART:20220313T070000
END:DAYLIGHT
BEGIN:STANDARD
TZOFFSETFROM:-0400
TZOFFSETTO:-0500
TZNAME:EST
DTSTART:20221106T060000
END:STANDARD
BEGIN:DAYLIGHT
TZOFFSETFROM:-0500
TZOFFSETTO:-0400
TZNAME:EDT
DTSTART:20230312T070000
END:DAYLIGHT
BEGIN:STANDARD
TZOFFSETFROM:-0400
TZOFFSETTO:-0500
TZNAME:EST
DTSTART:20231105T060000
END:STANDARD
END:VTIMEZONE
BEGIN:VEVENT
DTSTART;VALUE=DATE:20220718
DTEND;VALUE=DATE:20220719
DTSTAMP:20260425T125712
CREATED:20220629T150017Z
LAST-MODIFIED:20220629T150017Z
UID:6486-1658102400-1658188799@grandhealthpartners.com
SUMMARY:6pm Coping with Obesity Stigma - In Person & Live Webinar
DESCRIPTION:
URL:https://grandhealthpartners.com/event/6pm-coping-with-obesity-stigma-in-person-live-webinar/
END:VEVENT
BEGIN:VEVENT
DTSTART;VALUE=DATE:20220718
DTEND;VALUE=DATE:20220719
DTSTAMP:20260425T125712
CREATED:20220629T145959Z
LAST-MODIFIED:20220629T145959Z
UID:6484-1658102400-1658188799@grandhealthpartners.com
SUMMARY:5pm In-Person Surgical Support Group
DESCRIPTION:
URL:https://grandhealthpartners.com/event/5pm-in-person-surgical-support-group-28/
END:VEVENT
BEGIN:VEVENT
DTSTART;VALUE=DATE:20220714
DTEND;VALUE=DATE:20220715
DTSTAMP:20260425T125712
CREATED:20220629T145639Z
LAST-MODIFIED:20220629T145639Z
UID:6482-1657756800-1657843199@grandhealthpartners.com
SUMMARY:12pm (noon) Meal Planning – In-person & Live Webinar
DESCRIPTION:
URL:https://grandhealthpartners.com/event/12pm-noon-meal-planning-in-person-live-webinar-2/
END:VEVENT
BEGIN:VEVENT
DTSTART;VALUE=DATE:20220714
DTEND;VALUE=DATE:20220715
DTSTAMP:20260425T125712
CREATED:20220629T145617Z
LAST-MODIFIED:20220629T145617Z
UID:6480-1657756800-1657843199@grandhealthpartners.com
SUMMARY:11am Virtual All Patient Support Group
DESCRIPTION:
URL:https://grandhealthpartners.com/event/11am-virtual-all-patient-support-group-27/
END:VEVENT
BEGIN:VEVENT
DTSTART;VALUE=DATE:20220714
DTEND;VALUE=DATE:20220715
DTSTAMP:20260425T125712
CREATED:20220629T145555Z
LAST-MODIFIED:20220629T145555Z
UID:6478-1657756800-1657843199@grandhealthpartners.com
SUMMARY:10am In-Person Medical Support Group
DESCRIPTION:
URL:https://grandhealthpartners.com/event/10am-in-person-medical-support-group-19/
END:VEVENT
BEGIN:VEVENT
DTSTART;VALUE=DATE:20220714
DTEND;VALUE=DATE:20220715
DTSTAMP:20260425T125712
CREATED:20220629T145540Z
LAST-MODIFIED:20220629T145540Z
UID:6476-1657756800-1657843199@grandhealthpartners.com
SUMMARY:9am Meal Planning – In-person & Live Webinar
DESCRIPTION:
URL:https://grandhealthpartners.com/event/9am-meal-planning-in-person-live-webinar/
END:VEVENT
BEGIN:VEVENT
DTSTART;VALUE=DATE:20220711
DTEND;VALUE=DATE:20220712
DTSTAMP:20260425T125712
CREATED:20220629T145522Z
LAST-MODIFIED:20220629T145522Z
UID:6474-1657497600-1657583999@grandhealthpartners.com
SUMMARY:7pm Virtual All Patient Support Group
DESCRIPTION:
URL:https://grandhealthpartners.com/event/7pm-virtual-all-patient-support-group-27/
END:VEVENT
BEGIN:VEVENT
DTSTART;VALUE=DATE:20220711
DTEND;VALUE=DATE:20220712
DTSTAMP:20260425T125712
CREATED:20220629T145507Z
LAST-MODIFIED:20220629T145507Z
UID:6472-1657497600-1657583999@grandhealthpartners.com
SUMMARY:6pm Meal Planning - In Person & Live Webinar
DESCRIPTION:
URL:https://grandhealthpartners.com/event/6pm-meal-planning-in-person-live-webinar-2/
END:VEVENT
BEGIN:VEVENT
DTSTART;VALUE=DATE:20220711
DTEND;VALUE=DATE:20220712
DTSTAMP:20260425T125712
CREATED:20220629T145451Z
LAST-MODIFIED:20220629T145451Z
UID:6470-1657497600-1657583999@grandhealthpartners.com
SUMMARY:5pm In-Person Surgical Support Group
DESCRIPTION:
URL:https://grandhealthpartners.com/event/5pm-in-person-surgical-support-group-27/
END:VEVENT
BEGIN:VEVENT
DTSTART;TZID=America/Detroit:20220707T080000
DTEND;TZID=America/Detroit:20220707T170000
DTSTAMP:20260425T125712
CREATED:20220629T145206Z
LAST-MODIFIED:20220629T145206Z
UID:6464-1657180800-1657213200@grandhealthpartners.com
SUMMARY:10am In-Person Medical Support Group
DESCRIPTION:
URL:https://grandhealthpartners.com/event/10am-in-person-medical-support-group-18/
END:VEVENT
BEGIN:VEVENT
DTSTART;VALUE=DATE:20220707
DTEND;VALUE=DATE:20220708
DTSTAMP:20260425T125712
CREATED:20220629T145348Z
LAST-MODIFIED:20220629T145348Z
UID:6468-1657152000-1657238399@grandhealthpartners.com
SUMMARY:12pm (noon) Using Band without an Anchor – In-person & Live Webinar
DESCRIPTION:
URL:https://grandhealthpartners.com/event/12pm-noon-using-band-without-an-anchor-in-person-live-webinar/
END:VEVENT
BEGIN:VEVENT
DTSTART;VALUE=DATE:20220707
DTEND;VALUE=DATE:20220708
DTSTAMP:20260425T125712
CREATED:20220629T145328Z
LAST-MODIFIED:20220629T145328Z
UID:6466-1657152000-1657238399@grandhealthpartners.com
SUMMARY:11am Virtual All Patient Support Group
DESCRIPTION:
URL:https://grandhealthpartners.com/event/11am-virtual-all-patient-support-group-26/
END:VEVENT
BEGIN:VEVENT
DTSTART;VALUE=DATE:20220707
DTEND;VALUE=DATE:20220708
DTSTAMP:20260425T125712
CREATED:20220629T145148Z
LAST-MODIFIED:20220629T145148Z
UID:6462-1657152000-1657238399@grandhealthpartners.com
SUMMARY:9am Using Band without an Anchor – In-person & Live Webinar
DESCRIPTION:
URL:https://grandhealthpartners.com/event/9am-using-band-without-an-anchor-in-person-live-webinar/
END:VEVENT
BEGIN:VEVENT
DTSTART;VALUE=DATE:20220704
DTEND;VALUE=DATE:20220705
DTSTAMP:20260425T125712
CREATED:20220629T145018Z
LAST-MODIFIED:20220629T145018Z
UID:6459-1656892800-1656979199@grandhealthpartners.com
SUMMARY:HAPPY 4TH OF JULY - no groups or classes today
DESCRIPTION:
URL:https://grandhealthpartners.com/event/happy-4th-of-july-no-groups-or-classes-today/
END:VEVENT
BEGIN:VEVENT
DTSTART;VALUE=DATE:20220630
DTEND;VALUE=DATE:20220701
DTSTAMP:20260425T125712
CREATED:20220516T155412Z
LAST-MODIFIED:20220516T155412Z
UID:6431-1656547200-1656633599@grandhealthpartners.com
SUMMARY:12pm (noon) Breaking Free From Shame Part 2 – In-person & Live Webinar
DESCRIPTION:
URL:https://grandhealthpartners.com/event/12pm-noon-breaking-free-from-shame-part-2-in-person-live-webinar/
END:VEVENT
BEGIN:VEVENT
DTSTART;VALUE=DATE:20220630
DTEND;VALUE=DATE:20220701
DTSTAMP:20260425T125712
CREATED:20220516T155328Z
LAST-MODIFIED:20220516T155328Z
UID:6429-1656547200-1656633599@grandhealthpartners.com
SUMMARY:11am Virtual All Patient Support Group
DESCRIPTION:
URL:https://grandhealthpartners.com/event/11am-virtual-all-patient-support-group-25/
END:VEVENT
BEGIN:VEVENT
DTSTART;VALUE=DATE:20220630
DTEND;VALUE=DATE:20220701
DTSTAMP:20260425T125712
CREATED:20220516T155219Z
LAST-MODIFIED:20220516T155219Z
UID:6427-1656547200-1656633599@grandhealthpartners.com
SUMMARY:10am In-Person Medical Support Group
DESCRIPTION:
URL:https://grandhealthpartners.com/event/10am-in-person-medical-support-group-17/
END:VEVENT
BEGIN:VEVENT
DTSTART;VALUE=DATE:20220630
DTEND;VALUE=DATE:20220701
DTSTAMP:20260425T125712
CREATED:20220516T155155Z
LAST-MODIFIED:20220516T155155Z
UID:6425-1656547200-1656633599@grandhealthpartners.com
SUMMARY:9am Breaking Free From Shame Part 2 – In-person & Live Webinar
DESCRIPTION:
URL:https://grandhealthpartners.com/event/9am-breaking-free-from-shame-part-2-in-person-live-webinar/
END:VEVENT
BEGIN:VEVENT
DTSTART;VALUE=DATE:20220627
DTEND;VALUE=DATE:20220628
DTSTAMP:20260425T125712
CREATED:20220516T155135Z
LAST-MODIFIED:20220516T155135Z
UID:6423-1656288000-1656374399@grandhealthpartners.com
SUMMARY:7pm Virtual All Patient Support Group
DESCRIPTION:
URL:https://grandhealthpartners.com/event/7pm-virtual-all-patient-support-group-26/
END:VEVENT
BEGIN:VEVENT
DTSTART;VALUE=DATE:20220627
DTEND;VALUE=DATE:20220628
DTSTAMP:20260425T125712
CREATED:20220516T155105Z
LAST-MODIFIED:20220516T155105Z
UID:6421-1656288000-1656374399@grandhealthpartners.com
SUMMARY:6pm Breaking Free From Shame Part 2 - In Person & Live Webinar
DESCRIPTION:
URL:https://grandhealthpartners.com/event/6pm-breaking-free-from-shame-part-2-in-person-live-webinar/
END:VEVENT
BEGIN:VEVENT
DTSTART;VALUE=DATE:20220627
DTEND;VALUE=DATE:20220628
DTSTAMP:20260425T125712
CREATED:20220516T155036Z
LAST-MODIFIED:20220516T155036Z
UID:6419-1656288000-1656374399@grandhealthpartners.com
SUMMARY:5pm In-Person Surgical Support Group
DESCRIPTION:
URL:https://grandhealthpartners.com/event/5pm-in-person-surgical-support-group-26/
END:VEVENT
BEGIN:VEVENT
DTSTART;VALUE=DATE:20220623
DTEND;VALUE=DATE:20220624
DTSTAMP:20260425T125712
CREATED:20220516T154934Z
LAST-MODIFIED:20220516T154934Z
UID:6417-1655942400-1656028799@grandhealthpartners.com
SUMMARY:12pm (noon) Plant Based Eating – In-person & Live Webinar
DESCRIPTION:
URL:https://grandhealthpartners.com/event/12pm-noon-plant-based-eating-in-person-live-webinar/
END:VEVENT
BEGIN:VEVENT
DTSTART;VALUE=DATE:20220623
DTEND;VALUE=DATE:20220624
DTSTAMP:20260425T125712
CREATED:20220516T154911Z
LAST-MODIFIED:20220516T154911Z
UID:6415-1655942400-1656028799@grandhealthpartners.com
SUMMARY:11am Virtual All Patient Support Group
DESCRIPTION:
URL:https://grandhealthpartners.com/event/11am-virtual-all-patient-support-group-24/
END:VEVENT
BEGIN:VEVENT
DTSTART;VALUE=DATE:20220623
DTEND;VALUE=DATE:20220624
DTSTAMP:20260425T125712
CREATED:20220516T154853Z
LAST-MODIFIED:20220516T154853Z
UID:6413-1655942400-1656028799@grandhealthpartners.com
SUMMARY:10am In-Person Medical Support Group
DESCRIPTION:
URL:https://grandhealthpartners.com/event/10am-in-person-medical-support-group-16/
END:VEVENT
BEGIN:VEVENT
DTSTART;VALUE=DATE:20220623
DTEND;VALUE=DATE:20220624
DTSTAMP:20260425T125712
CREATED:20220516T154834Z
LAST-MODIFIED:20220516T154834Z
UID:6411-1655942400-1656028799@grandhealthpartners.com
SUMMARY:9am Plant Based Eating – In-person & Live Webinar
DESCRIPTION:
URL:https://grandhealthpartners.com/event/9am-plant-based-eating-in-person-live-webinar/
END:VEVENT
BEGIN:VEVENT
DTSTART;VALUE=DATE:20220620
DTEND;VALUE=DATE:20220621
DTSTAMP:20260425T125712
CREATED:20220516T154816Z
LAST-MODIFIED:20220516T154816Z
UID:6409-1655683200-1655769599@grandhealthpartners.com
SUMMARY:7pm Virtual All Patient Support Group
DESCRIPTION:
URL:https://grandhealthpartners.com/event/7pm-virtual-all-patient-support-group-25/
END:VEVENT
BEGIN:VEVENT
DTSTART;VALUE=DATE:20220620
DTEND;VALUE=DATE:20220621
DTSTAMP:20260425T125712
CREATED:20220516T154759Z
LAST-MODIFIED:20220516T154759Z
UID:6407-1655683200-1655769599@grandhealthpartners.com
SUMMARY:6pm Plant Based Eating - In Person & Live Webinar
DESCRIPTION:
URL:https://grandhealthpartners.com/event/6pm-plant-based-eating-in-person-live-webinar/
END:VEVENT
BEGIN:VEVENT
DTSTART;VALUE=DATE:20220620
DTEND;VALUE=DATE:20220621
DTSTAMP:20260425T125712
CREATED:20220516T154701Z
LAST-MODIFIED:20220516T154701Z
UID:6405-1655683200-1655769599@grandhealthpartners.com
SUMMARY:5pm In-Person Surgical Support Group
DESCRIPTION:
URL:https://grandhealthpartners.com/event/5pm-in-person-surgical-support-group-25/
END:VEVENT
BEGIN:VEVENT
DTSTART;VALUE=DATE:20220616
DTEND;VALUE=DATE:20220617
DTSTAMP:20260425T125712
CREATED:20220516T154509Z
LAST-MODIFIED:20220516T154509Z
UID:6403-1655337600-1655423999@grandhealthpartners.com
SUMMARY:12pm (noon) Interval Training – What it is and Isn’t – In-person & Live Webinar
DESCRIPTION:
URL:https://grandhealthpartners.com/event/12pm-noon-interval-training-what-it-is-and-isnt-in-person-live-webinar/
END:VEVENT
BEGIN:VEVENT
DTSTART;VALUE=DATE:20220616
DTEND;VALUE=DATE:20220617
DTSTAMP:20260425T125712
CREATED:20220516T154448Z
LAST-MODIFIED:20220516T154448Z
UID:6401-1655337600-1655423999@grandhealthpartners.com
SUMMARY:11am Virtual All Patient Support Group
DESCRIPTION:
URL:https://grandhealthpartners.com/event/11am-virtual-all-patient-support-group-23/
END:VEVENT
END:VCALENDAR